BEGIN:VCALENDAR
VERSION:2.0
PRODID:-//DRC Hannover - ECPv6.15.20//NONSGML v1.0//EN
CALSCALE:GREGORIAN
METHOD:PUBLISH
X-WR-CALNAME:DRC Hannover
X-ORIGINAL-URL:https://www.drc1884.de
X-WR-CALDESC:Veranstaltungen für DRC Hannover
REFRESH-INTERVAL;VALUE=DURATION:PT1H
X-Robots-Tag:noindex
X-PUBLISHED-TTL:PT1H
BEGIN:VTIMEZONE
TZID:Europe/Berlin
BEGIN:DAYLIGHT
TZOFFSETFROM:+0100
TZOFFSETTO:+0200
TZNAME:CEST
DTSTART:20230326T010000
END:DAYLIGHT
BEGIN:STANDARD
TZOFFSETFROM:+0200
TZOFFSETTO:+0100
TZNAME:CET
DTSTART:20231029T010000
END:STANDARD
BEGIN:DAYLIGHT
TZOFFSETFROM:+0100
TZOFFSETTO:+0200
TZNAME:CEST
DTSTART:20240331T010000
END:DAYLIGHT
BEGIN:STANDARD
TZOFFSETFROM:+0200
TZOFFSETTO:+0100
TZNAME:CET
DTSTART:20241027T010000
END:STANDARD
BEGIN:DAYLIGHT
TZOFFSETFROM:+0100
TZOFFSETTO:+0200
TZNAME:CEST
DTSTART:20250330T010000
END:DAYLIGHT
BEGIN:STANDARD
TZOFFSETFROM:+0200
TZOFFSETTO:+0100
TZNAME:CET
DTSTART:20251026T010000
END:STANDARD
END:VTIMEZONE
BEGIN:VEVENT
DTSTART;TZID=Europe/Berlin:20240221T190000
DTEND;TZID=Europe/Berlin:20240221T200000
DTSTAMP:20260421T123302
CREATED:20240215T170101Z
LAST-MODIFIED:20240215T170248Z
UID:27890-1708542000-1708545600@www.drc1884.de
SUMMARY:Online-Vorstandssitzung
DESCRIPTION:Der DRC-Vorstand lädt unsere Mitglieder ein zur Online-Vorstandssitzung am kommenden Mittwoch\, 21. Februar\, 19 Uhr\, als digitales Format über Microsoft Teams. Die Einwahldaten für die Veranstaltung gibt es auf Anfrage per E-Mail an unseren Präsidenten Julius Peschel praesident@drc1884.de \nteilen teilen teilen 
URL:https://www.drc1884.de/event/online-vorstandssitzung-2/
LOCATION:digitale Online Veranstaltung
END:VEVENT
END:VCALENDAR