BEGIN:VCALENDAR
VERSION:2.0
PRODID:-//DRC Hannover - ECPv6.15.20//NONSGML v1.0//EN
CALSCALE:GREGORIAN
METHOD:PUBLISH
X-WR-CALNAME:DRC Hannover
X-ORIGINAL-URL:https://www.drc1884.de
X-WR-CALDESC:Veranstaltungen für DRC Hannover
REFRESH-INTERVAL;VALUE=DURATION:PT1H
X-Robots-Tag:noindex
X-PUBLISHED-TTL:PT1H
BEGIN:VTIMEZONE
TZID:Europe/Berlin
BEGIN:DAYLIGHT
TZOFFSETFROM:+0100
TZOFFSETTO:+0200
TZNAME:CEST
DTSTART:20230326T010000
END:DAYLIGHT
BEGIN:STANDARD
TZOFFSETFROM:+0200
TZOFFSETTO:+0100
TZNAME:CET
DTSTART:20231029T010000
END:STANDARD
BEGIN:DAYLIGHT
TZOFFSETFROM:+0100
TZOFFSETTO:+0200
TZNAME:CEST
DTSTART:20240331T010000
END:DAYLIGHT
BEGIN:STANDARD
TZOFFSETFROM:+0200
TZOFFSETTO:+0100
TZNAME:CET
DTSTART:20241027T010000
END:STANDARD
BEGIN:DAYLIGHT
TZOFFSETFROM:+0100
TZOFFSETTO:+0200
TZNAME:CEST
DTSTART:20250330T010000
END:DAYLIGHT
BEGIN:STANDARD
TZOFFSETFROM:+0200
TZOFFSETTO:+0100
TZNAME:CET
DTSTART:20251026T010000
END:STANDARD
END:VTIMEZONE
BEGIN:VEVENT
DTSTART;TZID=Europe/Berlin:20240704T200000
DTEND;TZID=Europe/Berlin:20240704T210000
DTSTAMP:20260426T021458
CREATED:20240703T095943Z
LAST-MODIFIED:20240703T100020Z
UID:28545-1720123200-1720126800@www.drc1884.de
SUMMARY:Olympia-Farewell für Frauke
DESCRIPTION:Auf dem Weg zu den Olympischen Spielen in Paris ist unsere Frauke Hundeling morgen (Donnerstag\, 4.7.) das letzte Mal vor dem bevorstehenden sportlichen Großereignis in Hannover. Frauke kommt zum Breitensport-Grillen nach dem Rudern (Beginn ca. 20 Uhr) zum DRC-Bootshaus. Wir wollen Frauke bei der Gelegenheit noch mal kräftig auf die Schultern klopfen und alles Gute wünschen für Olympia. Frauke freut sich auf Fragen rund um ihren Paris-Start. Alle Mitglieder sind herzlich zu dem spontanen Treffen im DRC eingeladen. Getränke sind vorhanden\, Grillgut\, Brote und Salate bitte mitbringen. Die Wettervorhersage ist sonnig. Sollte das Wetter nicht mitspielen\, setzen wir uns in die Bootshalle.\n \nteilen teilen teilen 
URL:https://www.drc1884.de/event/olympia-farewell-fuer-frauke/
LOCATION:Deutscher Ruder-Club Hannover e.V\, Roesebeckstraße 1\, Hannover\, Niedersachsen\, 30449\, Deutschland
END:VEVENT
END:VCALENDAR