BEGIN:VCALENDAR
VERSION:2.0
PRODID:-//DRC Hannover - ECPv6.15.20//NONSGML v1.0//EN
CALSCALE:GREGORIAN
METHOD:PUBLISH
X-WR-CALNAME:DRC Hannover
X-ORIGINAL-URL:https://www.drc1884.de
X-WR-CALDESC:Veranstaltungen für DRC Hannover
REFRESH-INTERVAL;VALUE=DURATION:PT1H
X-Robots-Tag:noindex
X-PUBLISHED-TTL:PT1H
BEGIN:VTIMEZONE
TZID:Europe/Berlin
BEGIN:DAYLIGHT
TZOFFSETFROM:+0100
TZOFFSETTO:+0200
TZNAME:CEST
DTSTART:20230326T010000
END:DAYLIGHT
BEGIN:STANDARD
TZOFFSETFROM:+0200
TZOFFSETTO:+0100
TZNAME:CET
DTSTART:20231029T010000
END:STANDARD
BEGIN:DAYLIGHT
TZOFFSETFROM:+0100
TZOFFSETTO:+0200
TZNAME:CEST
DTSTART:20240331T010000
END:DAYLIGHT
BEGIN:STANDARD
TZOFFSETFROM:+0200
TZOFFSETTO:+0100
TZNAME:CET
DTSTART:20241027T010000
END:STANDARD
BEGIN:DAYLIGHT
TZOFFSETFROM:+0100
TZOFFSETTO:+0200
TZNAME:CEST
DTSTART:20250330T010000
END:DAYLIGHT
BEGIN:STANDARD
TZOFFSETFROM:+0200
TZOFFSETTO:+0100
TZNAME:CET
DTSTART:20251026T010000
END:STANDARD
END:VTIMEZONE
BEGIN:VEVENT
DTSTART;TZID=Europe/Berlin:20240704T200000
DTEND;TZID=Europe/Berlin:20240704T210000
DTSTAMP:20260426T002238
CREATED:20240703T095943Z
LAST-MODIFIED:20240703T100020Z
UID:28545-1720123200-1720126800@www.drc1884.de
SUMMARY:Olympia-Farewell für Frauke
DESCRIPTION:Auf dem Weg zu den Olympischen Spielen in Paris ist unsere Frauke Hundeling morgen (Donnerstag\, 4.7.) das letzte Mal vor dem bevorstehenden sportlichen Großereignis in Hannover. Frauke kommt zum Breitensport-Grillen nach dem Rudern (Beginn ca. 20 Uhr) zum DRC-Bootshaus. Wir wollen Frauke bei der Gelegenheit noch mal kräftig auf die Schultern klopfen und alles Gute wünschen für Olympia. Frauke freut sich auf Fragen rund um ihren Paris-Start. Alle Mitglieder sind herzlich zu dem spontanen Treffen im DRC eingeladen. Getränke sind vorhanden\, Grillgut\, Brote und Salate bitte mitbringen. Die Wettervorhersage ist sonnig. Sollte das Wetter nicht mitspielen\, setzen wir uns in die Bootshalle.\n \nteilen teilen teilen 
URL:https://www.drc1884.de/event/olympia-farewell-fuer-frauke/
LOCATION:Deutscher Ruder-Club Hannover e.V\, Roesebeckstraße 1\, Hannover\, Niedersachsen\, 30449\, Deutschland
END:VEVENT
BEGIN:VEVENT
DTSTART;TZID=Europe/Berlin:20240706T090000
DTEND;TZID=Europe/Berlin:20240706T130000
DTSTAMP:20260426T002238
CREATED:20240412T145215Z
LAST-MODIFIED:20240412T145215Z
UID:28082-1720256400-1720270800@www.drc1884.de
SUMMARY:DRC-Arbeitsdienst
DESCRIPTION:Interne Veranstaltung für alle DRC-Mitglieder\nBitte helft alle mit\, unser Gemeinschaftseigentum zu erhalten und unsere Liegenschaft zu pflegen. Um disponieren zu können\, bitten wir um Anmeldung arbeitsdienst@drc1884.de \nteilen teilen teilen 
URL:https://www.drc1884.de/event/drc-arbeitsdienst-57/
LOCATION:Deutscher Ruder-Club Hannover e.V\, Roesebeckstraße 1\, Hannover\, Niedersachsen\, 30449\, Deutschland
END:VEVENT
BEGIN:VEVENT
DTSTART;TZID=Europe/Berlin:20240725T190000
DTEND;TZID=Europe/Berlin:20240725T230000
DTSTAMP:20260426T002238
CREATED:20240626T114633Z
LAST-MODIFIED:20240702T114947Z
UID:28496-1721934000-1721948400@www.drc1884.de
SUMMARY:Mondscheinrudern
DESCRIPTION:Unsere beliebte Sommer-Rudertour auf Ihme\, Leine und Kanal für die gesamte Clubfamilie mit Sundowner an der Schleuse Limmer.\nAufbau: ab 18 Uhr\nTreffen/Bootseinteilung: 19 Uhr\nRückkehr am DRC-Bootshaus ca. 22:30 Uhr; danach Gegrilltes und kühle Getränke beim „DRC-Strandleben“.\nFür Jugendliche: Teilnahme ab 16 Jahre mit Einverständnis der Erziehungsberechtigten. \nteilen teilen teilen 
URL:https://www.drc1884.de/event/mondscheinrudern-3/
LOCATION:Deutscher Ruder-Club Hannover e.V\, Roesebeckstraße 1\, Hannover\, Niedersachsen\, 30449\, Deutschland
END:VEVENT
END:VCALENDAR